Package: GOTHiC Version: 1.45.1 Command: /home/biocbuild/R/R/bin/R CMD check --install=check:GOTHiC.install-out.txt --library=/home/biocbuild/R/R/site-library --no-vignettes --timings GOTHiC_1.45.1.tar.gz StartedAt: 2025-10-17 09:46:15 -0000 (Fri, 17 Oct 2025) EndedAt: 2025-10-17 10:04:50 -0000 (Fri, 17 Oct 2025) EllapsedTime: 1114.9 seconds RetCode: 0 Status: OK CheckDir: GOTHiC.Rcheck Warnings: 0