Package: GOTHiC Version: 1.45.1 Command: /home/biocbuild/R/R/bin/R CMD build --keep-empty-dirs --no-resave-data GOTHiC StartedAt: 2025-10-21 00:16:09 -0000 (Tue, 21 Oct 2025) EndedAt: 2025-10-21 00:16:59 -0000 (Tue, 21 Oct 2025) EllapsedTime: 50.0 seconds RetCode: 0 Status: OK PackageFile: GOTHiC_1.45.1.tar.gz PackageFileSize: 1.686 MiB