Package: GOTHiC Version: 1.45.1 Command: /home/biocbuild/bbs-3.22-bioc/R/bin/R CMD INSTALL GOTHiC StartedAt: 2025-10-19 15:52:36 -0400 (Sun, 19 Oct 2025) EndedAt: 2025-10-19 15:53:14 -0400 (Sun, 19 Oct 2025) EllapsedTime: 37.9 seconds RetCode: 0 Status: OK