Package: GOTHiC Version: 1.45.1 Command: /Library/Frameworks/R.framework/Resources/bin/R CMD INSTALL GOTHiC StartedAt: 2025-10-21 15:45:08 -0400 (Tue, 21 Oct 2025) EndedAt: 2025-10-21 15:46:02 -0400 (Tue, 21 Oct 2025) EllapsedTime: 54.0 seconds RetCode: 0 Status: OK