Package: GOTHiC Version: 1.45.1 Command: /Library/Frameworks/R.framework/Resources/bin/R CMD check --install=check:GOTHiC.install-out.txt --library=/Library/Frameworks/R.framework/Resources/library --no-vignettes --timings GOTHiC_1.45.1.tar.gz StartedAt: 2025-10-20 22:54:01 -0400 (Mon, 20 Oct 2025) EndedAt: 2025-10-20 23:01:58 -0400 (Mon, 20 Oct 2025) EllapsedTime: 477.1 seconds RetCode: 0 Status: OK CheckDir: GOTHiC.Rcheck Warnings: 0