Package: GOTHiC Version: 1.45.1 Command: /Library/Frameworks/R.framework/Resources/bin/R CMD build --keep-empty-dirs --no-resave-data GOTHiC StartedAt: 2025-10-20 17:24:38 -0400 (Mon, 20 Oct 2025) EndedAt: 2025-10-20 17:25:27 -0400 (Mon, 20 Oct 2025) EllapsedTime: 49.0 seconds RetCode: 0 Status: OK PackageFile: GOTHiC_1.45.1.tar.gz PackageFileSize: 1.697 MiB