Package: GOTHiC Version: 1.45.1 Command: rm -rf GOTHiC.buildbin-libdir && mkdir GOTHiC.buildbin-libdir && /Users/biocbuild/BBS/utils/build-universal.sh GOTHiC_1.45.1.tar.gz /Library/Frameworks/R.framework/Resources/bin/R GOTHiC.buildbin-libdir StartedAt: 2025-10-21 03:15:00 -0400 (Tue, 21 Oct 2025) EndedAt: 2025-10-21 03:15:55 -0400 (Tue, 21 Oct 2025) EllapsedTime: 55.6 seconds RetCode: 0 Status: OK PackageFile: GOTHiC_1.45.1.tgz PackageFileSize: 1.759 MiB