Package: GOTHiC Version: 1.45.1 Command: /Library/Frameworks/R.framework/Resources/bin/R CMD INSTALL GOTHiC StartedAt: 2025-10-20 15:27:11 -0400 (Mon, 20 Oct 2025) EndedAt: 2025-10-20 15:27:27 -0400 (Mon, 20 Oct 2025) EllapsedTime: 15.7 seconds RetCode: 0 Status: OK