Package: GOTHiC Version: 1.45.1 Command: rm -rf GOTHiC.buildbin-libdir && mkdir GOTHiC.buildbin-libdir && /Users/biocbuild/BBS/utils/build-universal.sh GOTHiC_1.45.1.tar.gz /Library/Frameworks/R.framework/Resources/bin/R GOTHiC.buildbin-libdir StartedAt: 2025-10-19 23:01:52 -0400 (Sun, 19 Oct 2025) EndedAt: 2025-10-19 23:02:09 -0400 (Sun, 19 Oct 2025) EllapsedTime: 16.4 seconds RetCode: 0 Status: OK PackageFile: GOTHiC_1.45.1.tgz PackageFileSize: 1.76 MiB