Package: GOSemSim Version: 2.35.2 Command: /home/biocbuild/R/R/bin/R CMD INSTALL GOSemSim StartedAt: 2025-10-16 22:09:14 -0000 (Thu, 16 Oct 2025) EndedAt: 2025-10-16 22:09:45 -0000 (Thu, 16 Oct 2025) EllapsedTime: 30.9 seconds RetCode: 0 Status: OK