Package: GOSemSim Version: 2.35.2 Command: /Library/Frameworks/R.framework/Resources/bin/R CMD INSTALL GOSemSim StartedAt: 2025-10-19 15:36:29 -0400 (Sun, 19 Oct 2025) EndedAt: 2025-10-19 15:37:00 -0400 (Sun, 19 Oct 2025) EllapsedTime: 31.1 seconds RetCode: 0 Status: OK