Package: GOSemSim Version: 2.35.2 Command: /Library/Frameworks/R.framework/Resources/bin/R CMD check --install=check:GOSemSim.install-out.txt --library=/Library/Frameworks/R.framework/Resources/library --no-vignettes --timings GOSemSim_2.35.2.tar.gz StartedAt: 2025-10-19 22:50:58 -0400 (Sun, 19 Oct 2025) EndedAt: 2025-10-19 22:54:17 -0400 (Sun, 19 Oct 2025) EllapsedTime: 199.3 seconds RetCode: 0 Status: OK CheckDir: GOSemSim.Rcheck Warnings: 0