Package: GOSemSim Version: 2.35.2 Command: /Library/Frameworks/R.framework/Resources/bin/R CMD build --keep-empty-dirs --no-resave-data GOSemSim StartedAt: 2025-10-19 17:26:25 -0400 (Sun, 19 Oct 2025) EndedAt: 2025-10-19 17:26:56 -0400 (Sun, 19 Oct 2025) EllapsedTime: 30.8 seconds RetCode: 0 Status: OK PackageFile: GOSemSim_2.35.2.tar.gz PackageFileSize: 594.9 KiB