Package: GOSemSim Version: 2.35.2 Command: rm -rf GOSemSim.buildbin-libdir && mkdir GOSemSim.buildbin-libdir && /Users/biocbuild/BBS/utils/build-universal.sh GOSemSim_2.35.2.tar.gz /Library/Frameworks/R.framework/Resources/bin/R GOSemSim.buildbin-libdir StartedAt: 2025-10-20 03:12:14 -0400 (Mon, 20 Oct 2025) EndedAt: 2025-10-20 03:12:49 -0400 (Mon, 20 Oct 2025) EllapsedTime: 34.7 seconds RetCode: 0 Status: OK PackageFile: GOSemSim_2.35.2.tgz PackageFileSize: 1.147 MiB