Package: GOSemSim Version: 2.35.2 Maintainer: Guangchuang Yu MaintainerEmail: guangchuangyu at gmail.com git_url: https://git.bioconductor.org/packages/GOSemSim git_branch: devel git_last_commit: 02a5e86 git_last_commit_date: 2025-10-02 19:45:37 -0400 (Thu, 02 Oct 2025)