Package: GNOSIS Version: 1.7.0 Command: F:\biocbuild\bbs-3.22-bioc\R\bin\R.exe CMD check --no-multiarch --install=check:GNOSIS.install-out.txt --library=F:\biocbuild\bbs-3.22-bioc\R\library --no-vignettes --timings GNOSIS_1.7.0.tar.gz StartedAt: 2025-08-15 03:49:46 -0400 (Fri, 15 Aug 2025) EndedAt: 2025-08-15 03:57:22 -0400 (Fri, 15 Aug 2025) EllapsedTime: 455.5 seconds RetCode: 0 Status: WARNINGS CheckDir: GNOSIS.Rcheck Warnings: 1