Package: GNOSIS Version: 1.7.0 Command: chmod a+r GNOSIS -R && F:\biocbuild\bbs-3.22-bioc\R\bin\R.exe CMD build --keep-empty-dirs --no-resave-data GNOSIS StartedAt: 2025-08-14 20:35:03 -0400 (Thu, 14 Aug 2025) EndedAt: 2025-08-14 20:37:03 -0400 (Thu, 14 Aug 2025) EllapsedTime: 119.4 seconds RetCode: 0 Status: OK PackageFile: GNOSIS_1.7.0.tar.gz PackageFileSize: 3.374 MiB