Package: GNOSIS Version: 1.7.0 Command: /Library/Frameworks/R.framework/Resources/bin/R CMD INSTALL GNOSIS StartedAt: 2025-10-19 15:23:14 -0400 (Sun, 19 Oct 2025) EndedAt: 2025-10-19 15:23:39 -0400 (Sun, 19 Oct 2025) EllapsedTime: 24.9 seconds RetCode: 0 Status: OK