Package: GNOSIS Version: 1.7.0 Command: /Library/Frameworks/R.framework/Resources/bin/R CMD check --install=check:GNOSIS.install-out.txt --library=/Library/Frameworks/R.framework/Resources/library --no-vignettes --timings GNOSIS_1.7.0.tar.gz StartedAt: 2025-10-19 19:59:21 -0400 (Sun, 19 Oct 2025) EndedAt: 2025-10-19 20:01:46 -0400 (Sun, 19 Oct 2025) EllapsedTime: 144.7 seconds RetCode: 0 Status: WARNINGS CheckDir: GNOSIS.Rcheck Warnings: 1