Package: GNOSIS Version: 1.7.0 Command: rm -rf GNOSIS.buildbin-libdir && mkdir GNOSIS.buildbin-libdir && /Users/biocbuild/BBS/utils/build-universal.sh GNOSIS_1.7.0.tar.gz /Library/Frameworks/R.framework/Resources/bin/R GNOSIS.buildbin-libdir StartedAt: 2025-10-19 23:01:42 -0400 (Sun, 19 Oct 2025) EndedAt: 2025-10-19 23:02:09 -0400 (Sun, 19 Oct 2025) EllapsedTime: 26.6 seconds RetCode: 0 Status: OK PackageFile: GNOSIS_1.7.0.tgz PackageFileSize: 2.533 MiB