Package: GMRP Version: 1.37.0 Command: F:\biocbuild\bbs-3.22-bioc\R\bin\R.exe CMD check --no-multiarch --install=check:GMRP.install-out.txt --library=F:\biocbuild\bbs-3.22-bioc\R\library --no-vignettes --timings GMRP_1.37.0.tar.gz StartedAt: 2025-08-15 03:48:58 -0400 (Fri, 15 Aug 2025) EndedAt: 2025-08-15 03:50:27 -0400 (Fri, 15 Aug 2025) EllapsedTime: 89.8 seconds RetCode: 0 Status: WARNINGS CheckDir: GMRP.Rcheck Warnings: 1