Package: GMRP Version: 1.37.0 Command: chmod a+r GMRP -R && F:\biocbuild\bbs-3.22-bioc\R\bin\R.exe CMD build --keep-empty-dirs --no-resave-data GMRP StartedAt: 2025-08-14 20:34:50 -0400 (Thu, 14 Aug 2025) EndedAt: 2025-08-14 20:35:21 -0400 (Thu, 14 Aug 2025) EllapsedTime: 31.3 seconds RetCode: 0 Status: OK PackageFile: GMRP_1.37.0.tar.gz PackageFileSize: 898 KiB