Package: GMRP Version: 1.37.0 Command: rm -rf GMRP.buildbin-libdir && mkdir GMRP.buildbin-libdir && F:\biocbuild\bbs-3.22-bioc\R\bin\R.exe CMD INSTALL --build --library=GMRP.buildbin-libdir GMRP_1.37.0.tar.gz StartedAt: 2025-08-15 10:24:23 -0400 (Fri, 15 Aug 2025) EndedAt: 2025-08-15 10:24:43 -0400 (Fri, 15 Aug 2025) EllapsedTime: 19.7 seconds RetCode: 0 Status: OK PackageFile: GMRP_1.37.0.zip PackageFileSize: 980 KiB