Package: GMRP Version: 1.38.0 Command: /Library/Frameworks/R.framework/Resources/bin/R CMD INSTALL GMRP StartedAt: 2025-11-03 15:21:56 -0500 (Mon, 03 Nov 2025) EndedAt: 2025-11-03 15:22:14 -0500 (Mon, 03 Nov 2025) EllapsedTime: 18.3 seconds RetCode: 0 Status: OK