Package: GMRP Version: 1.38.0 Command: /Library/Frameworks/R.framework/Resources/bin/R CMD check --install=check:GMRP.install-out.txt --library=/Library/Frameworks/R.framework/Resources/library --no-vignettes --timings GMRP_1.38.0.tar.gz StartedAt: 2025-11-03 21:38:02 -0500 (Mon, 03 Nov 2025) EndedAt: 2025-11-03 21:39:21 -0500 (Mon, 03 Nov 2025) EllapsedTime: 79.5 seconds RetCode: 0 Status: OK CheckDir: GMRP.Rcheck Warnings: 0