Package: GIGSEA Version: 1.27.0 Command: /Library/Frameworks/R.framework/Resources/bin/R CMD check --install=check:GIGSEA.install-out.txt --library=/Library/Frameworks/R.framework/Resources/library --no-vignettes --timings GIGSEA_1.27.0.tar.gz StartedAt: 2025-10-02 20:08:52 -0400 (Thu, 02 Oct 2025) EndedAt: 2025-10-02 20:09:23 -0400 (Thu, 02 Oct 2025) EllapsedTime: 31.4 seconds RetCode: 0 Status: OK CheckDir: GIGSEA.Rcheck Warnings: 0