Package: GGPA Version: 1.21.0 Command: /home/biocbuild/R/R/bin/R CMD check --install=check:GGPA.install-out.txt --library=/home/biocbuild/R/R/site-library --no-vignettes --timings GGPA_1.21.0.tar.gz StartedAt: 2025-09-30 08:44:37 -0000 (Tue, 30 Sep 2025) EndedAt: 2025-09-30 08:49:15 -0000 (Tue, 30 Sep 2025) EllapsedTime: 278.2 seconds RetCode: 0 Status: OK CheckDir: GGPA.Rcheck Warnings: 0