Package: GGPA Version: 1.22.0 Command: /Library/Frameworks/R.framework/Resources/bin/R CMD INSTALL GGPA StartedAt: 2025-11-02 15:05:41 -0500 (Sun, 02 Nov 2025) EndedAt: 2025-11-02 15:05:52 -0500 (Sun, 02 Nov 2025) EllapsedTime: 10.9 seconds RetCode: 0 Status: OK