Package: GEWIST Version: 1.53.0 Command: /home/biocbuild/R/R/bin/R CMD INSTALL GEWIST StartedAt: 2025-10-02 20:28:13 -0000 (Thu, 02 Oct 2025) EndedAt: 2025-10-02 20:28:41 -0000 (Thu, 02 Oct 2025) EllapsedTime: 28.5 seconds RetCode: 0 Status: OK