Package: GEWIST Version: 1.53.0 Command: /home/biocbuild/R/R/bin/R CMD check --install=check:GEWIST.install-out.txt --library=/home/biocbuild/R/R/site-library --no-vignettes --timings GEWIST_1.53.0.tar.gz StartedAt: 2025-10-03 07:32:46 -0000 (Fri, 03 Oct 2025) EndedAt: 2025-10-03 07:35:49 -0000 (Fri, 03 Oct 2025) EllapsedTime: 182.1 seconds RetCode: 0 Status: OK CheckDir: GEWIST.Rcheck Warnings: 0