Package: GEOquery Version: 2.77.6 Command: /home/biocbuild/R/R/bin/R CMD INSTALL GEOquery StartedAt: 2025-10-20 20:48:48 -0000 (Mon, 20 Oct 2025) EndedAt: 2025-10-20 20:49:21 -0000 (Mon, 20 Oct 2025) EllapsedTime: 32.5 seconds RetCode: 0 Status: OK