Package: GEOquery Version: 2.77.6 Command: /home/biocbuild/bbs-3.22-bioc/R/bin/R CMD check --install=check:GEOquery.install-out.txt --library=/home/biocbuild/bbs-3.22-bioc/R/site-library --timings GEOquery_2.77.6.tar.gz StartedAt: 2025-10-22 00:20:41 -0400 (Wed, 22 Oct 2025) EndedAt: 2025-10-22 00:25:23 -0400 (Wed, 22 Oct 2025) EllapsedTime: 281.3 seconds RetCode: 0 Status: WARNINGS CheckDir: GEOquery.Rcheck Warnings: 1