Package: GEOquery Version: 2.77.6 Command: /Library/Frameworks/R.framework/Resources/bin/R CMD check --install=check:GEOquery.install-out.txt --library=/Library/Frameworks/R.framework/Resources/library --no-vignettes --timings GEOquery_2.77.6.tar.gz StartedAt: 2025-10-19 22:42:03 -0400 (Sun, 19 Oct 2025) EndedAt: 2025-10-19 22:49:38 -0400 (Sun, 19 Oct 2025) EllapsedTime: 454.8 seconds RetCode: 0 Status: WARNINGS CheckDir: GEOquery.Rcheck Warnings: 1