Package: GEOmetadb Version: 1.71.0 Command: /home/biocbuild/R/R/bin/R CMD INSTALL GEOmetadb StartedAt: 2025-10-23 20:19:42 -0000 (Thu, 23 Oct 2025) EndedAt: 2025-10-23 20:20:05 -0000 (Thu, 23 Oct 2025) EllapsedTime: 23.0 seconds RetCode: 0 Status: OK