Package: GEOmetadb Version: 1.71.0 Command: /Library/Frameworks/R.framework/Resources/bin/R CMD build --keep-empty-dirs --no-resave-data GEOmetadb StartedAt: 2025-10-23 17:06:46 -0400 (Thu, 23 Oct 2025) EndedAt: 2025-10-23 17:07:09 -0400 (Thu, 23 Oct 2025) EllapsedTime: 22.9 seconds RetCode: 0 Status: OK PackageFile: GEOmetadb_1.71.0.tar.gz PackageFileSize: 619.3 KiB