Package: GEOfastq Version: 1.17.0 Command: /home/biocbuild/bbs-3.22-bioc/R/bin/R CMD build --keep-empty-dirs --no-resave-data --md5 GEOfastq StartedAt: 2025-10-19 17:50:22 -0400 (Sun, 19 Oct 2025) EndedAt: 2025-10-19 17:50:32 -0400 (Sun, 19 Oct 2025) EllapsedTime: 10.0 seconds RetCode: 0 Status: OK PackageFile: GEOfastq_1.17.0.tar.gz PackageFileSize: 13.91 KiB