Package: GEOfastq Version: 1.17.0 Command: /Library/Frameworks/R.framework/Resources/bin/R CMD INSTALL GEOfastq StartedAt: 2025-10-20 15:08:26 -0400 (Mon, 20 Oct 2025) EndedAt: 2025-10-20 15:09:32 -0400 (Mon, 20 Oct 2025) EllapsedTime: 66.4 seconds RetCode: 0 Status: OK