Package: GEOexplorer Version: 1.15.0 Command: /home/biocbuild/R/R/bin/R CMD INSTALL GEOexplorer StartedAt: 2025-10-23 20:57:07 -0000 (Thu, 23 Oct 2025) EndedAt: 2025-10-23 20:58:54 -0000 (Thu, 23 Oct 2025) EllapsedTime: 107.2 seconds RetCode: 0 Status: OK