Package: GEOexplorer Version: 1.16.0 Command: /home/biocbuild/R/R/bin/R CMD check --install=check:GEOexplorer.install-out.txt --library=/home/biocbuild/R/R/site-library --no-vignettes --timings GEOexplorer_1.16.0.tar.gz StartedAt: 2025-11-21 11:07:47 -0000 (Fri, 21 Nov 2025) EndedAt: 2025-11-21 11:23:24 -0000 (Fri, 21 Nov 2025) EllapsedTime: 936.5 seconds RetCode: 1 Status: ERROR CheckDir: GEOexplorer.Rcheck Warnings: NA