Package: GEOexplorer Version: 1.15.0 Command: F:\biocbuild\bbs-3.22-bioc\R\bin\R.exe CMD INSTALL GEOexplorer StartedAt: 2025-08-14 16:19:09 -0400 (Thu, 14 Aug 2025) EndedAt: 2025-08-14 16:20:10 -0400 (Thu, 14 Aug 2025) EllapsedTime: 61.4 seconds RetCode: 0 Status: OK