Package: GEOexplorer Version: 1.15.0 Command: /home/biocbuild/bbs-3.22-bioc/R/bin/R CMD INSTALL GEOexplorer StartedAt: 2025-10-24 15:44:12 -0400 (Fri, 24 Oct 2025) EndedAt: 2025-10-24 15:44:55 -0400 (Fri, 24 Oct 2025) EllapsedTime: 43.0 seconds RetCode: 0 Status: OK