Package: GEOexplorer Version: 1.15.0 Command: /home/biocbuild/bbs-3.22-bioc/R/bin/R CMD check --install=check:GEOexplorer.install-out.txt --library=/home/biocbuild/bbs-3.22-bioc/R/site-library --timings GEOexplorer_1.15.0.tar.gz StartedAt: 2025-10-25 00:07:23 -0400 (Sat, 25 Oct 2025) EndedAt: 2025-10-25 00:13:39 -0400 (Sat, 25 Oct 2025) EllapsedTime: 375.5 seconds RetCode: 1 Status: ERROR CheckDir: GEOexplorer.Rcheck Warnings: NA