Package: GEOexplorer Version: 1.15.0 Command: /Library/Frameworks/R.framework/Resources/bin/R CMD INSTALL GEOexplorer StartedAt: 2025-10-28 15:32:31 -0400 (Tue, 28 Oct 2025) EndedAt: 2025-10-28 15:33:29 -0400 (Tue, 28 Oct 2025) EllapsedTime: 58.1 seconds RetCode: 0 Status: OK