Package: GEOexplorer Version: 1.16.0 Command: /Library/Frameworks/R.framework/Resources/bin/R CMD build --keep-empty-dirs --no-resave-data GEOexplorer StartedAt: 2025-10-29 23:48:52 -0400 (Wed, 29 Oct 2025) EndedAt: 2025-10-29 23:50:02 -0400 (Wed, 29 Oct 2025) EllapsedTime: 69.5 seconds RetCode: 0 Status: OK PackageFile: GEOexplorer_1.16.0.tar.gz PackageFileSize: 11.26 MiB