Package: GEOexplorer Version: 1.15.0 Command: rm -rf GEOexplorer.buildbin-libdir && mkdir GEOexplorer.buildbin-libdir && /Users/biocbuild/BBS/utils/build-universal.sh GEOexplorer_1.15.0.tar.gz /Library/Frameworks/R.framework/Resources/bin/R GEOexplorer.buildbin-libdir StartedAt: 2025-10-29 01:36:54 -0400 (Wed, 29 Oct 2025) EndedAt: 2025-10-29 01:38:02 -0400 (Wed, 29 Oct 2025) EllapsedTime: 68.7 seconds RetCode: 0 Status: OK PackageFile: GEOexplorer_1.15.0.tgz PackageFileSize: 7.432 MiB