Package: GEOexplorer Version: 1.15.0 Command: /Library/Frameworks/R.framework/Resources/bin/R CMD build --keep-empty-dirs --no-resave-data GEOexplorer StartedAt: 2025-10-28 16:30:55 -0400 (Tue, 28 Oct 2025) EndedAt: 2025-10-28 16:31:22 -0400 (Tue, 28 Oct 2025) EllapsedTime: 27.2 seconds RetCode: 0 Status: OK PackageFile: GEOexplorer_1.15.0.tar.gz PackageFileSize: 11.26 MiB