Package: GEOexplorer Version: 1.16.0 Command: rm -rf GEOexplorer.buildbin-libdir && mkdir GEOexplorer.buildbin-libdir && /Users/biocbuild/BBS/utils/build-universal.sh GEOexplorer_1.16.0.tar.gz /Library/Frameworks/R.framework/Resources/bin/R GEOexplorer.buildbin-libdir StartedAt: 2025-10-30 05:26:14 -0400 (Thu, 30 Oct 2025) EndedAt: 2025-10-30 05:26:33 -0400 (Thu, 30 Oct 2025) EllapsedTime: 19.4 seconds RetCode: 0 Status: OK PackageFile: GEOexplorer_1.16.0.tgz PackageFileSize: 7.433 MiB