Package: GENIE3 Version: 1.31.0 Command: /home/biocbuild/R/R/bin/R CMD INSTALL GENIE3 StartedAt: 2025-10-20 20:18:53 -0000 (Mon, 20 Oct 2025) EndedAt: 2025-10-20 20:19:20 -0000 (Mon, 20 Oct 2025) EllapsedTime: 26.3 seconds RetCode: 0 Status: OK