Package: GENIE3 Version: 1.31.0 Command: rm -rf GENIE3.buildbin-libdir && mkdir GENIE3.buildbin-libdir && F:\biocbuild\bbs-3.22-bioc\R\bin\R.exe CMD INSTALL --build --library=GENIE3.buildbin-libdir GENIE3_1.31.0.tar.gz StartedAt: 2025-08-15 10:20:41 -0400 (Fri, 15 Aug 2025) EndedAt: 2025-08-15 10:20:53 -0400 (Fri, 15 Aug 2025) EllapsedTime: 12.6 seconds RetCode: 0 Status: OK PackageFile: GENIE3_1.31.0.zip PackageFileSize: 267.6 KiB