Package: GENIE3 Version: 1.31.0 Command: rm -rf GENIE3.buildbin-libdir && mkdir GENIE3.buildbin-libdir && /Users/biocbuild/BBS/utils/build-universal.sh GENIE3_1.31.0.tar.gz /Library/Frameworks/R.framework/Resources/bin/R GENIE3.buildbin-libdir StartedAt: 2025-10-20 23:01:41 -0400 (Mon, 20 Oct 2025) EndedAt: 2025-10-20 23:01:44 -0400 (Mon, 20 Oct 2025) EllapsedTime: 3.1 seconds RetCode: 0 Status: OK PackageFile: GENIE3_1.31.0.tgz PackageFileSize: 263.5 KiB